BEGIN:VCALENDAR
VERSION:2.0
PRODID:-//Intellitec Solutions - ECPv6.15.20//NONSGML v1.0//EN
CALSCALE:GREGORIAN
METHOD:PUBLISH
X-ORIGINAL-URL:https://intellitecsolutions.com
X-WR-CALDESC:Events for Intellitec Solutions
REFRESH-INTERVAL;VALUE=DURATION:PT1H
X-Robots-Tag:noindex
X-PUBLISHED-TTL:PT1H
BEGIN:VTIMEZONE
TZID:America/New_York
BEGIN:DAYLIGHT
TZOFFSETFROM:-0500
TZOFFSETTO:-0400
TZNAME:EDT
DTSTART:20230312T070000
END:DAYLIGHT
BEGIN:STANDARD
TZOFFSETFROM:-0400
TZOFFSETTO:-0500
TZNAME:EST
DTSTART:20231105T060000
END:STANDARD
BEGIN:DAYLIGHT
TZOFFSETFROM:-0500
TZOFFSETTO:-0400
TZNAME:EDT
DTSTART:20240310T070000
END:DAYLIGHT
BEGIN:STANDARD
TZOFFSETFROM:-0400
TZOFFSETTO:-0500
TZNAME:EST
DTSTART:20241103T060000
END:STANDARD
BEGIN:DAYLIGHT
TZOFFSETFROM:-0500
TZOFFSETTO:-0400
TZNAME:EDT
DTSTART:20250309T070000
END:DAYLIGHT
BEGIN:STANDARD
TZOFFSETFROM:-0400
TZOFFSETTO:-0500
TZNAME:EST
DTSTART:20251102T060000
END:STANDARD
BEGIN:DAYLIGHT
TZOFFSETFROM:-0500
TZOFFSETTO:-0400
TZNAME:EDT
DTSTART:20260308T070000
END:DAYLIGHT
BEGIN:STANDARD
TZOFFSETFROM:-0400
TZOFFSETTO:-0500
TZNAME:EST
DTSTART:20261101T060000
END:STANDARD
BEGIN:DAYLIGHT
TZOFFSETFROM:-0500
TZOFFSETTO:-0400
TZNAME:EDT
DTSTART:20270314T070000
END:DAYLIGHT
BEGIN:STANDARD
TZOFFSETFROM:-0400
TZOFFSETTO:-0500
TZNAME:EST
DTSTART:20271107T060000
END:STANDARD
END:VTIMEZONE
BEGIN:VEVENT
DTSTART;TZID=America/New_York:20240925T210000
DTEND;TZID=America/New_York:20240925T220000
DTSTAMP:20260425T112816
CREATED:20240904T204003Z
LAST-MODIFIED:20241205T011440Z
UID:15963-1727298000-1727301600@intellitecsolutions.com
SUMMARY:Skyrocket your Efficiency in Business Central:  A Journey to Office Productivity
DESCRIPTION:Skyrocket your Efficiency in Business Central: A Journey to Office Productivity\n\nUnlock the full potential of your Business Central data with our upcoming webinar\, “Skyrocket your Efficiency: A Journey to Office Productivity”. Discover how to seamlessly integrate Business Central with Office tools like Outlook\, Teams and CRM to streamline your workflows. We’ll dive into practical strategies for leveraging Copilot to optimize data management. Don’t miss out on the opportunity to transform the way you use data across your organization. Register now to secure your spot! \nSign Up
URL:https://intellitecsolutions.com/event/skyrocket/
LOCATION:Online
CATEGORIES:Webinar
END:VEVENT
BEGIN:VEVENT
DTSTART;TZID=America/New_York:20241030T210000
DTEND;TZID=America/New_York:20241030T220000
DTSTAMP:20260425T112816
CREATED:20240925T135525Z
LAST-MODIFIED:20241205T010915Z
UID:16439-1730322000-1730325600@intellitecsolutions.com
SUMMARY:Beyond Boundaries: Exploring Business Central's Fall 2024 Release
DESCRIPTION:Beyond Boundaries: Exploring Business Central’s Fall 2024 Release\n\nJoin us for our upcoming webinar\, where we’ll dive into the exciting features and enhancements of the Fall 2024 New Release of Business Central. This is a fantastic opportunity for you to gain valuable insights and learn how these updates can benefit your business. \nThe topics we will focus on are the following: \n\nSubscription billing\nAdditional options for easier data entry and document uploads\nAdditional copilot features\nAdditional reporting options such as new columns\, fixed asset ad-hoc analysis\, and added fields to analysis views\nExcel reporting options\nAllocations\n\nSign Up
URL:https://intellitecsolutions.com/event/bc-fall-2024-release/
LOCATION:Online
CATEGORIES:Webinar
END:VEVENT
BEGIN:VEVENT
DTSTART;TZID=America/New_York:20241113T030000
DTEND;TZID=America/New_York:20241113T041500
DTSTAMP:20260425T112816
CREATED:20241024T193728Z
LAST-MODIFIED:20241205T002400Z
UID:17094-1731466800-1731471300@intellitecsolutions.com
SUMMARY:Sage Intacct Quarterly Release Overview - R4 2024
DESCRIPTION:Webinar – Sage Intacct Quarterly Release Overview\nJoin us as we review the new features in the November 2024 quarterly update to Sage Intacct. We will show you new features and user interface updates\, and discuss key items you should be aware of. Attend this session to stay ahead of the curve and harness the full potential of the latest quarterly release updates. \nSign Up 
URL:https://intellitecsolutions.com/event/sage-intacct-quarterly-release-overview-r4-2024/
LOCATION:Online
CATEGORIES:Webinar
END:VEVENT
BEGIN:VEVENT
DTSTART;TZID=America/New_York:20241205T050000
DTEND;TZID=America/New_York:20241205T060000
DTSTAMP:20260425T112816
CREATED:20241108T175342Z
LAST-MODIFIED:20241205T003539Z
UID:17569-1733374800-1733378400@intellitecsolutions.com
SUMMARY:Preparing for 2025: Your Year-End Business Central Guide
DESCRIPTION:Beyond Boundaries: Exploring Business Central’s Fall 2024 Release\n\nAs the year draws to a close\, we invite you to join us for our year-end Business Central Webinar. This event is designed to help you wrap up the year smoothly and set the stage for success in the coming year. \nWe will cover the following essential topics to ensure you are fully prepared for the year-end processes and the new year ahead: \n\nYear-End Financial Close: Best practices to efficiently close out your financials\nKey Features and Updates: Overview of new enhancements in Business Central\nPreparing for the New Year: Strategies to set up your Business Central environment for success in the upcoming year\n1099 information: Streamlined guide on setting up\, preparing\, and submitting 1099 forms to the IRS.\n\nRegister now to secure your spot and start the new year with confidence! \nWe look forward to seeing you there! \nSign Up
URL:https://intellitecsolutions.com/event/preparing-for-2025-bc/
LOCATION:Online
CATEGORIES:Webinar
END:VEVENT
BEGIN:VEVENT
DTSTART;TZID=America/New_York:20241212T110000
DTEND;TZID=America/New_York:20241212T120000
DTSTAMP:20260425T112816
CREATED:20241024T195439Z
LAST-MODIFIED:20241210T195916Z
UID:17099-1734001200-1734004800@intellitecsolutions.com
SUMMARY:Dynamics GP Year End 2024
DESCRIPTION:Dynamics GP Year End 2024\nPlease join us for the 2024 Year End Webinar along with new features from the October 2024 release of GP and the Lifecycle for Microsoft Dynamics GP. \nWe will answer your general questions\, and highlight steps to follow for year-end processes and the year-end close. We will also discuss: \n– 2024 Year End Updates & changes\n– Preparing for the Close\n– What’s new in GP\n– Q & A \nSign Up 
URL:https://intellitecsolutions.com/event/dynamics-gp-year-end-2024/
LOCATION:Online
CATEGORIES:Webinar
END:VEVENT
BEGIN:VEVENT
DTSTART;TZID=America/New_York:20250327T130000
DTEND;TZID=America/New_York:20250327T140000
DTSTAMP:20260425T112816
CREATED:20250303T223150Z
LAST-MODIFIED:20250303T223150Z
UID:22883-1743080400-1743084000@intellitecsolutions.com
SUMMARY:Solver Showcase: Explore the New Features in Solver
DESCRIPTION:Solver Showcase: Explore the New Features in Solver\n\nIt’s that time again – time to check out the new and enhanced features in Solver! To keep it simple\, we’re hosting a webinar so you can get an in-depth look at these updates and see how they can benefit your business. \nWhat We’ll Cover: \n\nIntro to Copilot Help: Get answers to your process & product questions quickly – and share your feedback.\nData Warehouse Improvements: Better data management and storage.\nBusiness Central Drill Back Feature: Gain deeper sales and purchasing insights.\nMore Updates focused on making it Easier to Use: Updated Portal Toolbar\, Simplified access with Solver Academy single sign-on\, and Licensing changes with new Contributor Role\nSolver Conference in August: We’ll share updates on this event so you can decide whether to meet us there!\n\nSign Up
URL:https://intellitecsolutions.com/event/solver-showcase-explore-the-new-features-in-solver/
LOCATION:Online
CATEGORIES:Webinar
END:VEVENT
BEGIN:VEVENT
DTSTART;TZID=America/New_York:20250924T130000
DTEND;TZID=America/New_York:20250924T150000
DTSTAMP:20260425T112816
CREATED:20250917T162623Z
LAST-MODIFIED:20250917T163003Z
UID:36672-1758718800-1758726000@intellitecsolutions.com
SUMMARY:Intellitec Insights Summit
DESCRIPTION:Intellitec Insights Summit\n\nBusiness technology is always evolving\, and keeping up with the latest tools and trends can be a challenge. Created specifically for our Microsoft GP & SL clients\, Intellitec Insights Summit is your opportunity to get your finger on the pulse of what’s happening across the Microsoft ERP ecosystem and beyond\, all in one focused virtual event. \nYou’ll gain insight curated to help you make informed decisions about your ERP future: \n\nExplore the full Microsoft ecosystem & options available\nSee how supporting technologies add value\nLearn what matters when evaluating ERP systems\nReview your options for the future\nDiscover practical ways to modernize today\n\nSign Up
URL:https://intellitecsolutions.com/event/intellitec-insights-summit/
LOCATION:Online
CATEGORIES:Webinar
END:VEVENT
BEGIN:VEVENT
DTSTART;TZID=America/New_York:20260416T110000
DTEND;TZID=America/New_York:20260416T113000
DTSTAMP:20260425T112816
CREATED:20260318T211707Z
LAST-MODIFIED:20260318T212220Z
UID:36803-1776337200-1776339000@intellitecsolutions.com
SUMMARY:Senior Living Finance - In 20 Minutes
DESCRIPTION:Senior Living Finance – In 20 Minutes\n\nWhat We’ll Cover\nThis session provides a brief walkthrough of how a well-structured financial environment can support senior living organizations more effectively. During the session\, we will highlight: \n\nA role-based Controller dashboard\nReal-time drill-down into financial and operational data\nEmbedded audit trail with supporting documentation\nDashboards and reporting available from the outset\n\nWhy This Matters\nSenior living finance teams are not lacking effort – they are often working within systems that make visibility and alignment difficult. \nSign Up
URL:https://intellitecsolutions.com/event/senior-living-finance-in-20-minutes/
LOCATION:Online
CATEGORIES:Webinar
END:VEVENT
BEGIN:VEVENT
DTSTART;TZID=America/New_York:20260521T110000
DTEND;TZID=America/New_York:20260521T113000
DTSTAMP:20260425T112816
CREATED:20260320T131801Z
LAST-MODIFIED:20260330T191833Z
UID:51320-1779361200-1779363000@intellitecsolutions.com
SUMMARY:Senior Living Finance - In 20 Minutes
DESCRIPTION:Senior Living Finance – In 20 Minutes\n\nWhat We’ll Cover\nThis session provides a brief walkthrough of how a well-structured financial environment can support senior living organizations more effectively. During the session\, we will highlight: \n\nA role-based Controller dashboard\nReal-time drill-down into financial and operational data\nEmbedded audit trail with supporting documentation\nDashboards and reporting available from the outset\n\nWhy This Matters\nSenior living finance teams are not lacking effort – they are often working within systems that make visibility and alignment difficult. \nSign Up
URL:https://intellitecsolutions.com/event/senior-living-finance-in-20-minutes-2/
LOCATION:Online
CATEGORIES:Webinar
END:VEVENT
BEGIN:VEVENT
DTSTART;TZID=America/New_York:20260618T110000
DTEND;TZID=America/New_York:20260618T113000
DTSTAMP:20260425T112816
CREATED:20260330T192128Z
LAST-MODIFIED:20260330T192128Z
UID:52247-1781780400-1781782200@intellitecsolutions.com
SUMMARY:Senior Living Finance - In 20 Minutes
DESCRIPTION:Senior Living Finance – In 20 Minutes\n\nWhat We’ll Cover\nThis session provides a brief walkthrough of how a well-structured financial environment can support senior living organizations more effectively. During the session\, we will highlight: \n\nA role-based Controller dashboard\nReal-time drill-down into financial and operational data\nEmbedded audit trail with supporting documentation\nDashboards and reporting available from the outset\n\nWhy This Matters\nSenior living finance teams are not lacking effort – they are often working within systems that make visibility and alignment difficult. \nSign Up
URL:https://intellitecsolutions.com/event/senior-living-finance-in-20-minutes-3/
LOCATION:Online
CATEGORIES:Webinar
END:VEVENT
END:VCALENDAR